BEGIN:VCALENDAR
VERSION:2.0
PRODID:-//ChamberMaster//Event Calendar 2.0//EN
METHOD:PUBLISH
X-PUBLISHED-TTL:P3D
REFRESH-INTERVAL:P3D
CALSCALE:GREGORIAN
BEGIN:VEVENT
DTSTART:20190928T143000Z
DTEND:20190928T180000Z
X-MICROSOFT-CDO-ALLDAYEVENT:FALSE
SUMMARY:University Dance Team Junior Warrior Clinic
DESCRIPTION:You're Invited to the 2nd Annual Midland Dance Junior Warrior Clinic!\n\n\n\nOpen to Boys and Girls K-8th Grade\n\nRegister Online HERE or Download the Attached Form and Mail to:\n\nMidland University Attn: Head Dance Coach\n\n900 N Clarkson St\n\nFremont\, NE 68025
X-ALT-DESC;FMTTYPE=text/html:<div style="text-align:center"><strong>You&#39\;re Invited to the 2nd Annual Midland Dance Junior Warrior Clinic!<br />\n<br />\nOpen to Boys and Girls K-8th Grade</strong></div>\n\n<div style="text-align:center"><strong>Register Online&nbsp\;<a href="https://forms.gle/z5qVCGYs4mRRMGbX8" style="color: rgb(17\, 85\, 204)\;" target="_blank">HERE</a>&nbsp\;or Download the Attached Form and Mail to:</strong></div>\n\n<div style="text-align:center">Midland University Attn: Head Dance Coach</div>\n\n<div style="text-align:center">900 N Clarkson St</div>\n\n<div style="text-align:center">Fremont\, NE 68025</div>\n
LOCATION:Wikert Event Center/ Heedum Field
UID:e.881.14607
SEQUENCE:3
DTSTAMP:20260421T183227Z
URL:https://chamber.fremontne.org/events/details/university-dance-team-junior-warrior-clinic-14607
END:VEVENT

END:VCALENDAR
