BEGIN:VCALENDAR
VERSION:2.0
PRODID:-//ChamberMaster//Event Calendar 2.0//EN
METHOD:PUBLISH
X-PUBLISHED-TTL:P3D
REFRESH-INTERVAL:P3D
CALSCALE:GREGORIAN
BEGIN:VEVENT
DTSTART:20180618T230000Z
DTEND:20180621T003000Z
X-MICROSOFT-CDO-ALLDAYEVENT:FALSE
SUMMARY:VBS in the Park 2018
DESCRIPTION:Join us for VBS in the Park\, June 18-20 in John C. Fremont Park each night from 6pm to 7:30pm.  Kids will be able to create art\, play games\, and learn about stories of faith.  Kids ages 3 through going into 6th grade are invited.  Kids ages 3 through 5 years will need to be accompaned by an adult each evening.   We'll finish this event with a huge color war on the last night. \n\nTo register go to https://goo.gl/forms/cNNnfow2xKNbA03u1
X-ALT-DESC;FMTTYPE=text/html:<p>Join us for VBS in the Park\, June 18-20 in John C. Fremont Park each night from 6pm to 7:30pm.&nbsp\; Kids will be able to create art\, play games\, and learn about stories of faith.&nbsp\; Kids ages 3 through going into 6th grade are invited.&nbsp\; Kids ages 3 through 5 years will need to be accompaned by an adult each evening.&nbsp\;&nbsp\; We&#39\;ll finish this event with a huge color war on the last night.&nbsp\;</p>\n\n<p>To register go to https://goo.gl/forms/cNNnfow2xKNbA03u1<br />\n<br />\n&nbsp\;</p>\n
LOCATION:John C. Fremont Park\, Downtown Fremont\, Nebraska 9th & Broad St.
UID:e.881.14142
SEQUENCE:3
DTSTAMP:20260422T125533Z
URL:https://chamber.fremontne.org/events/details/vbs-in-the-park-2018-14142
END:VEVENT

END:VCALENDAR
