BEGIN:VCALENDAR
VERSION:2.0
PRODID:-//ChamberMaster//Event Calendar 2.0//EN
METHOD:PUBLISH
X-PUBLISHED-TTL:P3D
REFRESH-INTERVAL:P3D
CALSCALE:GREGORIAN
BEGIN:VEVENT
DTSTART:20190426T130000Z
DTEND:20190426T133000Z
X-MICROSOFT-CDO-ALLDAYEVENT:FALSE
SUMMARY:Walmart Grand Re-Opening
DESCRIPTION:Walmart will be hosting a Grand Reopening of their store in Fremont. For months\, Walmart has put a strong effort forward to make the shopping experience even better for their customers!
X-ALT-DESC;FMTTYPE=text/html:Walmart will be hosting a Grand Reopening of their store in Fremont. For months\, Walmart has put a strong effort forward to make the shopping experience even better for their customers!
LOCATION:Walmart 3010 East 23rd Street Fremont\, NE 68025
UID:e.881.14510
SEQUENCE:3
DTSTAMP:20260421T234527Z
URL:https://chamber.fremontne.org/events/details/walmart-grand-re-opening-14510
END:VEVENT

END:VCALENDAR
