BEGIN:VCALENDAR
VERSION:2.0
PRODID:-//ChamberMaster//Event Calendar 2.0//EN
METHOD:PUBLISH
X-PUBLISHED-TTL:P3D
REFRESH-INTERVAL:P3D
CALSCALE:GREGORIAN
BEGIN:VEVENT
DTSTART:20241119T150000Z
DTEND:20241119T160000Z
X-MICROSOFT-CDO-ALLDAYEVENT:FALSE
SUMMARY:Walnut Radio Anniversary Coffee
DESCRIPTION:Walnut Radio's Holiday Chamber Coffee  \n\n  Date: Tuesday\, November 19th\, 2024\n\n  Time: 9:00 - 10:00 AM\n\n  Location: 1746 East 23rd Ave N.\, Fremont\, NE\n\nCelebrate the holiday season with us at Walnut Radio's festive Chamber Coffee!    Join us for a cozy morning of networking\, holiday cheer\, and community connections.\n\n  Warm up with coffee and holiday treats while mingling with friends and fellow Chamber members!\n\nStart your day with festive vibes\, good company\, and a little holiday magic! We can't wait to see you there!
X-ALT-DESC;FMTTYPE=text/html:<p style="text-align: center\;"><span style="font-size:22px\;"><strong><span style="font-family:verdana\;">&#127876\; Walnut Radio&#39\;s Holiday Chamber Coffee &#127876\;</span></strong></span></p>\n\n<p style="text-align: center\;"><span style="font-size:18px\;"><span style="font-family:verdana\;">&#128197\; Date: Tuesday\, November 19th\, 2024<br />\n&#9200\; Time: 9:00 - 10:00 AM<br />\n&#128205\; Location: 1746 East 23rd Ave N.\, Fremont\, NE</span></span></p>\n\n<p style="text-align: center\;"><span style="font-size:18px\;"><span style="font-family:verdana\;">Celebrate the holiday season with us at Walnut Radio&#39\;s festive Chamber Coffee! &#9749\;&#10024\; Join us for a cozy morning of networking\, holiday cheer\, and community connections.</span></span></p>\n\n<p style="text-align: center\;"><span style="font-size:18px\;"><span style="font-family:verdana\;">&#127873\; Warm up with coffee and holiday treats while mingling with friends and fellow Chamber members!</span></span></p>\n\n<p style="text-align: center\;"><span style="font-size:18px\;"><span style="font-family:verdana\;">Start your day with festive vibes\, good company\, and a little holiday magic! We can&#39\;t wait to see you there! &#127881\;</span></span></p>\n
LOCATION:
UID:e.881.16398
SEQUENCE:3
DTSTAMP:20260423T042052Z
URL:https://chamber.fremontne.org/events/details/walnut-radio-anniversary-coffee-16398
END:VEVENT

END:VCALENDAR
