BEGIN:VCALENDAR
VERSION:2.0
PRODID:-//ChamberMaster//Event Calendar 2.0//EN
METHOD:PUBLISH
X-PUBLISHED-TTL:P3D
REFRESH-INTERVAL:P3D
CALSCALE:GREGORIAN
BEGIN:VEVENT
DTSTART:20190914T180000Z
DTEND:20190914T200000Z
X-MICROSOFT-CDO-ALLDAYEVENT:FALSE
SUMMARY:Warrior football vs Northwestern
DESCRIPTION:Help us cheer on the Warriors Football team vs Northwestern
X-ALT-DESC;FMTTYPE=text/html:Help us cheer on the Warriors Football team vs Northwestern&nbsp\;
LOCATION:Heedum Field at 1:00 pm
UID:e.881.14606
SEQUENCE:3
DTSTAMP:20260421T171945Z
URL:https://chamber.fremontne.org/events/details/warrior-football-vs-northwestern-14606
END:VEVENT

END:VCALENDAR
