BEGIN:VCALENDAR
VERSION:2.0
PRODID:-//ChamberMaster//Event Calendar 2.0//EN
METHOD:PUBLISH
X-PUBLISHED-TTL:P3D
REFRESH-INTERVAL:P3D
CALSCALE:GREGORIAN
BEGIN:VEVENT
DTSTART:20190817T160000Z
DTEND:20190817T180000Z
X-MICROSOFT-CDO-ALLDAYEVENT:FALSE
SUMMARY:Warriors Volleyball vs St. Ambrose
DESCRIPTION:Help us cheer on the Midland Warriors Volleyball team
X-ALT-DESC;FMTTYPE=text/html:Help us cheer on the Midland Warriors Volleyball team
LOCATION:Wikert Event Center
UID:e.881.14586
SEQUENCE:3
DTSTAMP:20260421T185151Z
URL:https://chamber.fremontne.org/events/details/warriors-volleyball-vs-st-ambrose-14586
END:VEVENT

END:VCALENDAR
