BEGIN:VCALENDAR
VERSION:2.0
PRODID:-//ChamberMaster//Event Calendar 2.0//EN
METHOD:PUBLISH
X-PUBLISHED-TTL:P3D
REFRESH-INTERVAL:P3D
CALSCALE:GREGORIAN
BEGIN:VEVENT
DTSTART:20190911T220000Z
DTEND:20190912T000000Z
X-MICROSOFT-CDO-ALLDAYEVENT:FALSE
SUMMARY:Women's Soccer vs Ottawa
DESCRIPTION:Help us cheer on the Women's soccer team
X-ALT-DESC;FMTTYPE=text/html:Help us cheer on the Women&#39\;s soccer team&nbsp\;
LOCATION:Heedum Field
UID:e.881.14604
SEQUENCE:3
DTSTAMP:20260421T171946Z
URL:https://chamber.fremontne.org/events/details/women-s-soccer-vs-ottawa-14604
END:VEVENT

END:VCALENDAR
