BEGIN:VCALENDAR
VERSION:2.0
PRODID:-//ChamberMaster//Event Calendar 2.0//EN
METHOD:PUBLISH
X-PUBLISHED-TTL:P3D
REFRESH-INTERVAL:P3D
CALSCALE:GREGORIAN
BEGIN:VEVENT
DTSTART:20181130T150000Z
DTEND:20181130T160000Z
X-MICROSOFT-CDO-ALLDAYEVENT:FALSE
SUMMARY:Wooden Windmill Coffee
DESCRIPTION:
X-ALT-DESC;FMTTYPE=text/html:
LOCATION:1155 South Broad Street Fremont\, NE
UID:e.881.14296
SEQUENCE:3
DTSTAMP:20260422T073853Z
URL:https://chamber.fremontne.org/events/details/wooden-windmill-coffee-14296
END:VEVENT

END:VCALENDAR
