BEGIN:VCALENDAR
VERSION:2.0
PRODID:-//ChamberMaster//Event Calendar 2.0//EN
METHOD:PUBLISH
X-PUBLISHED-TTL:P3D
REFRESH-INTERVAL:P3D
CALSCALE:GREGORIAN
BEGIN:VEVENT
DTSTART:20200202T013000Z
DTEND:20200202T033000Z
X-MICROSOFT-CDO-ALLDAYEVENT:FALSE
SUMMARY:WORKING - Midland Arts
DESCRIPTION:WORKING - Midland Arts
X-ALT-DESC;FMTTYPE=text/html:WORKING - Midland Arts
LOCATION:Kimmel Theater - Midland University
UID:e.881.14670
SEQUENCE:3
DTSTAMP:20260421T115922Z
URL:https://chamber.fremontne.org/events/details/working-midland-arts-02-01-2020-14670
END:VEVENT

END:VCALENDAR
