BEGIN:VCALENDAR
VERSION:2.0
PRODID:-//ChamberMaster//Event Calendar 2.0//EN
METHOD:PUBLISH
X-PUBLISHED-TTL:P3D
REFRESH-INTERVAL:P3D
CALSCALE:GREGORIAN
BEGIN:VEVENT
DTSTART:20200105T190000Z
DTEND:20200105T220000Z
X-MICROSOFT-CDO-ALLDAYEVENT:FALSE
SUMMARY:YMCA Open House
DESCRIPTION:YMCA is open to the public all day   Swim Party at DFAC from 1pm-3pm   Video Game Tournaments in the Underground   Games in the Turf Room   Watch the house hockey teams play at Sidner Ice Arena   Bounce House on the Tennis Courts   Games in the Gymnastics Center   Body Pump/Body Flow and CXWORX Launch Free child care during the event. 2020 Membership Special (for Open House only) No Joiner Fee $20 in membership dues until February 20\, 2020 $20 in Y Bucks to be used toward swim lessons\, tennis\, gymnastics and youth sports FREE YMCA drawstring bag New for 2020! Anyone with any type of family membership to our YMCA will receive one FREE 52 punch card for the Kidz Zone.* Please stop by the front desk of the YMCA during the Open House to get your family's card! *Limit one per family. Punches must be used in 2020. After the card is full\, additional punches may be purchased for $2 each.
X-ALT-DESC;FMTTYPE=text/html:YMCA is open to the public all day &bull\; Swim Party at DFAC from 1pm-3pm &bull\; Video Game Tournaments in the Underground &bull\; Games in the Turf Room &bull\; Watch the house hockey teams play at Sidner Ice Arena &bull\; Bounce House on the Tennis Courts &bull\; Games in the Gymnastics Center &bull\; Body Pump/Body Flow and CXWORX Launch Free child care during the event. 2020 Membership Special (for Open House only) No Joiner Fee $20 in membership dues until February 20\, 2020 $20 in Y Bucks to be used toward swim lessons\, tennis\, gymnastics and youth sports FREE YMCA drawstring bag New for 2020! Anyone with any type of family membership to our YMCA will receive one FREE 52 punch card for the Kidz Zone.* Please stop by the front desk of the YMCA during the Open House to get your family&#39\;s card! *Limit one per family. Punches must be used in 2020. After the card is full\, additional punches may be purchased for $2 each.
LOCATION:Fremont Family YMCA
UID:e.881.14733
SEQUENCE:3
DTSTAMP:20260421T132957Z
URL:https://chamber.fremontne.org/events/details/ymca-open-house-01-05-2020-14733
END:VEVENT

END:VCALENDAR
