BEGIN:VCALENDAR
VERSION:2.0
PRODID:-//ChamberMaster//Event Calendar 2.0//EN
METHOD:PUBLISH
X-PUBLISHED-TTL:P3D
REFRESH-INTERVAL:P3D
CALSCALE:GREGORIAN
BEGIN:VEVENT
DTSTART:20190103T190000Z
DTEND:20190104T010000Z
X-MICROSOFT-CDO-ALLDAYEVENT:FALSE
SUMMARY:YMCA Open House
DESCRIPTION:Try the YMCA for free all day! Free Skate at Sidner Ice Arena from 1pm-3pm Toddler Time in gymnastics area from 3:30pm-4:00pm (must be accompanied by an adult) Crafts and Games in the Underground from 4pm-5pm Pool Party at the Dillon Family Aquatics Center from 5:00pm-6:30pm Bounce house in the indoor tennis courts from 5pm-7pm Gymnastics demonstration from 4pm-7:30pm Personal trainers meet and greet\, and Wellness Center orientations from 4pm-7pm Youth games in the gym (3-point contest\, ladder drills\, sport opportunities\, scooter games\, parachute) from 4:30pm-7pm Pizza ($1/slice) from 5:30pm until it runs out! Kid/family yoga in large gym from 5:30pm-6:00pm Family movie time in Underground from 7:15pm-8:30pm Prizes given throughout the day! Join during the YMCA during the Open House and we will waive the $40 joiner fee and you can choose a FREE gift!
X-ALT-DESC;FMTTYPE=text/html:Try the YMCA for free all day! Free Skate at Sidner Ice Arena from 1pm-3pm Toddler Time in gymnastics area from 3:30pm-4:00pm (must be accompanied by an adult) Crafts and Games in the Underground from 4pm-5pm Pool Party at the Dillon Family Aquatics Center from 5:00pm-6:30pm Bounce house in the indoor tennis courts from 5pm-7pm Gymnastics demonstration from 4pm-7:30pm Personal trainers meet and greet\, and Wellness Center orientations from 4pm-7pm Youth games in the gym (3-point contest\, ladder drills\, sport opportunities\, scooter games\, parachute) from 4:30pm-7pm Pizza ($1/slice) from 5:30pm until it runs out! Kid/family yoga in large gym from 5:30pm-6:00pm Family movie time in Underground from 7:15pm-8:30pm Prizes given throughout the day! Join during the YMCA during the Open House and we will waive the $40 joiner fee and you can choose a FREE gift!
LOCATION:Fremont Family YMCA
UID:e.881.14321
SEQUENCE:3
DTSTAMP:20260422T033303Z
URL:https://chamber.fremontne.org/events/details/ymca-open-house-14321
END:VEVENT

END:VCALENDAR
