BEGIN:VCALENDAR
VERSION:2.0
PRODID:-//ChamberMaster//Event Calendar 2.0//EN
METHOD:PUBLISH
X-PUBLISHED-TTL:P3D
REFRESH-INTERVAL:P3D
CALSCALE:GREGORIAN
BEGIN:VEVENT
DTSTART:20180619T000000Z
DTEND:20180619T010000Z
X-MICROSOFT-CDO-ALLDAYEVENT:FALSE
SUMMARY:Yoga and Wellness for Everyone
DESCRIPTION:Yoga and Wellness for Everyone is a new monthly program offering at Keene Memorial Library. The first class will be held on Monday\, June 18 at 7 pm in the Large Meeting Room and is open to teens and adults of all abilities. Classes will be taught by our newest collaborative partner Kim Stabbe\, RDH\, MS\, RYT. Kim is a certified yoga instructor with special certification in Senior Yoga and Chair Yoga. She teaches at Blue Yoga studio in downtown Fremont. Yoga has been shown to help decrease stress\, anxiety\, high blood pressure\, and some pain as well as improve balance and mental focus. If you have a body and you can move you can do yoga. Yoga is for all abilities\; if participants are unable to get on the floor\, a chair will be used. Participants who have their own yoga mat are asked to bring it. First time attendees will be asked to sign a participation waiver. Contact Laura England-Biggs at the library (laura.biggs@fremontne.gov or 402-727-2694) with any questions.
X-ALT-DESC;FMTTYPE=text/html:Yoga and Wellness for Everyone is a new monthly program offering at Keene Memorial Library. The first class will be held on Monday\, June 18 at 7 pm in the Large Meeting Room and is open to teens and adults of all abilities. Classes will be taught by our newest collaborative partner Kim Stabbe\, RDH\, MS\, RYT. Kim is a certified yoga instructor with special certification in Senior Yoga and Chair Yoga. She teaches at Blue Yoga studio in downtown Fremont. Yoga has been shown to help decrease stress\, anxiety\, high blood pressure\, and some pain as well as improve balance and mental focus. If you have a body and you can move you can do yoga. Yoga is for all abilities\; if participants are unable to get on the floor\, a chair will be used. Participants who have their own yoga mat are asked to bring it. First time attendees will be asked to sign a participation waiver. Contact Laura England-Biggs at the library (laura.biggs@fremontne.gov or 402-727-2694) with any questions.
LOCATION:Keene Memorial Library 1030 N Broad St Fremont NE 68025
UID:e.881.14146
SEQUENCE:3
DTSTAMP:20260422T141411Z
URL:https://chamber.fremontne.org/events/details/yoga-and-wellness-for-everyone-14146
END:VEVENT

END:VCALENDAR
