BEGIN:VCALENDAR
VERSION:2.0
PRODID:-//ChamberMaster//Event Calendar 2.0//EN
METHOD:PUBLISH
X-PUBLISHED-TTL:P3D
REFRESH-INTERVAL:P3D
CALSCALE:GREGORIAN
BEGIN:VEVENT
DTSTART:20180815T000000Z
DTEND:20180815T010000Z
X-MICROSOFT-CDO-ALLDAYEVENT:FALSE
SUMMARY:Yoga for Everyone
DESCRIPTION:Yoga and Wellness for Everyone Tuesday August 14 at 7 pm\, Large Meeting Room Teens and Adults of All Abilities Welcome Certified yoga instructor Kim Stabbe will lead participants through a series of gentle yoga poses and breathing exercises designed to promote balance and flexibility.
X-ALT-DESC;FMTTYPE=text/html:Yoga and Wellness for Everyone Tuesday August 14 at 7 pm\, Large Meeting Room Teens and Adults of All Abilities Welcome Certified yoga instructor Kim Stabbe will lead participants through a series of gentle yoga poses and breathing exercises designed to promote balance and flexibility.
LOCATION:Keene Memorial Library\, Large Auditorium
UID:e.881.14174
SEQUENCE:3
DTSTAMP:20260422T101211Z
URL:https://chamber.fremontne.org/events/details/yoga-for-everyone-14174
END:VEVENT

END:VCALENDAR
