BEGIN:VCALENDAR
VERSION:2.0
PRODID:-//ChamberMaster//Event Calendar 2.0//EN
METHOD:PUBLISH
X-PUBLISHED-TTL:P3D
REFRESH-INTERVAL:P3D
CALSCALE:GREGORIAN
BEGIN:VEVENT
DTSTART:20180818T190000Z
DTEND:20180818T193000Z
X-MICROSOFT-CDO-ALLDAYEVENT:FALSE
SUMMARY:Yoga Storytime
DESCRIPTION:Stretch your body and mind at Keene Memorial Library's Storytime Yoga this Saturday\, August 18 at 2 pm. Storytime Yoga will be led by local children's yoga teacher\, Kai-Helin Cooper\, who will integrate the movement of yoga into a traditional storytime. Participants will hear stories and practice poses under the instruction of Cooper. Activities will be geared towards children\, but all ages are welcome to attend this free event. Pre-registration is encouraged due to a class limit of 15 people.
X-ALT-DESC;FMTTYPE=text/html:Stretch your body and mind at Keene Memorial Library&rsquo\;s Storytime Yoga this Saturday\, August 18 at 2 pm. Storytime Yoga will be led by local children&rsquo\;s yoga teacher\, Kai-Helin Cooper\, who will integrate the movement of yoga into a traditional storytime. Participants will hear stories and practice poses under the instruction of Cooper. Activities will be geared towards children\, but all ages are welcome to attend this free event. Pre-registration is encouraged due to a class limit of 15 people.
LOCATION:Keene Memorial Library\, Large Auditorium
UID:e.881.14175
SEQUENCE:3
DTSTAMP:20260422T100656Z
URL:https://chamber.fremontne.org/events/details/yoga-storytime-14175
END:VEVENT

END:VCALENDAR
